BEGIN:VCALENDAR
VERSION:2.0
PRODID:-//Anacostia Watershed Society - ECPv6.15.20//NONSGML v1.0//EN
CALSCALE:GREGORIAN
METHOD:PUBLISH
X-ORIGINAL-URL:https://anacostiaws.tdgwebhost.com
X-WR-CALDESC:Events for Anacostia Watershed Society
REFRESH-INTERVAL;VALUE=DURATION:PT1H
X-Robots-Tag:noindex
X-PUBLISHED-TTL:PT1H
BEGIN:VTIMEZONE
TZID:America/New_York
BEGIN:DAYLIGHT
TZOFFSETFROM:-0500
TZOFFSETTO:-0400
TZNAME:EDT
DTSTART:20250309T070000
END:DAYLIGHT
BEGIN:STANDARD
TZOFFSETFROM:-0400
TZOFFSETTO:-0500
TZNAME:EST
DTSTART:20251102T060000
END:STANDARD
BEGIN:DAYLIGHT
TZOFFSETFROM:-0500
TZOFFSETTO:-0400
TZNAME:EDT
DTSTART:20260308T070000
END:DAYLIGHT
BEGIN:STANDARD
TZOFFSETFROM:-0400
TZOFFSETTO:-0500
TZNAME:EST
DTSTART:20261101T060000
END:STANDARD
BEGIN:DAYLIGHT
TZOFFSETFROM:-0500
TZOFFSETTO:-0400
TZNAME:EDT
DTSTART:20270314T070000
END:DAYLIGHT
BEGIN:STANDARD
TZOFFSETFROM:-0400
TZOFFSETTO:-0500
TZNAME:EST
DTSTART:20271107T060000
END:STANDARD
END:VTIMEZONE
BEGIN:VEVENT
DTSTART;TZID=America/New_York:20260611T180000
DTEND;TZID=America/New_York:20260611T200000
DTSTAMP:20260421T130354
CREATED:20260421T154400Z
LAST-MODIFIED:20260421T155650Z
UID:10000028-1781200800-1781208000@anacostiaws.tdgwebhost.com
SUMMARY:2026 Anacostia River Discovery Series Boat Tour
DESCRIPTION:Join the Anacostia Watershed Society for an Anacostia River Discovery Series boat tour on the Anacostia River to explore the ecological and historical changes that have occurred in the river and in the communities around the river. We will have the opportunity to witness some of the restoration of river habitats and how it has caused the rebound of the wildlife in the Anacostia River. \nRegister on 5/18
URL:https://anacostiaws.tdgwebhost.com/event/2026-anacostia-river-discovery-series-8/
LOCATION:Diamond Teague Park\, 100 Potomac Avenue\, SE\, Washington\, 20003\, United States
CATEGORIES:Anacostia River Discovery Series
ATTACH;FMTTYPE=image/jpeg:https://anacostiaws.tdgwebhost.com/wp-content/uploads/2026/04/Lotus-Bloom-Mobilize-Pic.jpg
END:VEVENT
BEGIN:VEVENT
DTSTART;TZID=America/New_York:20260613T090000
DTEND;TZID=America/New_York:20260613T103000
DTSTAMP:20260421T130354
CREATED:20260421T160530Z
LAST-MODIFIED:20260421T160530Z
UID:10000047-1781341200-1781346600@anacostiaws.tdgwebhost.com
SUMMARY:2026 Anacostia River Discovery Series Boat Tour
DESCRIPTION:Join the Anacostia Watershed Society for an Anacostia River Discovery Series boat tour on the Anacostia River to explore the ecological and historical changes that have occurred in the river and in the communities around the river. We will have the opportunity to witness some of the restoration of river habitats and how it has caused the rebound of the wildlife in the Anacostia River. \nRegister on 5/18
URL:https://anacostiaws.tdgwebhost.com/event/2026-anacostia-river-discovery-series-boat-tour-2/
LOCATION:Diamond Teague Park\, 100 Potomac Avenue\, SE\, Washington\, 20003\, United States
CATEGORIES:Anacostia River Discovery Series
ATTACH;FMTTYPE=image/jpeg:https://anacostiaws.tdgwebhost.com/wp-content/uploads/2026/04/Lotus-Bloom-Mobilize-Pic.jpg
END:VEVENT
BEGIN:VEVENT
DTSTART;TZID=America/New_York:20260618T180000
DTEND;TZID=America/New_York:20260618T190000
DTSTAMP:20260421T130354
CREATED:20260421T154750Z
LAST-MODIFIED:20260421T155650Z
UID:10000029-1781805600-1781809200@anacostiaws.tdgwebhost.com
SUMMARY:2026 Anacostia River Discovery Series Boat Tour
DESCRIPTION:Join the Anacostia Watershed Society for an Anacostia River Discovery Series boat tour on the Anacostia River to explore the ecological and historical changes that have occurred in the river and in the communities around the river. We will have the opportunity to witness some of the restoration of river habitats and how it has caused the rebound of the wildlife in the Anacostia River. \nRegister on 5/18
URL:https://anacostiaws.tdgwebhost.com/event/2026-anacostia-river-discovery-series-9/
LOCATION:Anacostia Park Boat Ramp\, 1500 Anacostia Drive\, Washington\, DC\, 20020\, United States
CATEGORIES:Anacostia River Discovery Series
ATTACH;FMTTYPE=image/jpeg:https://anacostiaws.tdgwebhost.com/wp-content/uploads/2026/04/Lotus-Bloom-Mobilize-Pic.jpg
END:VEVENT
BEGIN:VEVENT
DTSTART;TZID=America/New_York:20260625T180000
DTEND;TZID=America/New_York:20260625T190000
DTSTAMP:20260421T130354
CREATED:20260420T205315Z
LAST-MODIFIED:20260421T155650Z
UID:10000030-1782410400-1782414000@anacostiaws.tdgwebhost.com
SUMMARY:2026 Anacostia River Discovery Series Boat Tour
DESCRIPTION:Join the Anacostia Watershed Society for an Anacostia River Discovery Series boat tour on the Anacostia River to explore the ecological and historical changes that have occurred in the river and in the communities around the river. We will have the opportunity to witness some of the restoration of river habitats and how it has caused the rebound of the wildlife in the Anacostia River.
URL:https://anacostiaws.tdgwebhost.com/event/2026-anacostia-river-discovery-series/2026-06-25/
LOCATION:Diamond Teague Park\, 100 Potomac Avenue\, SE\, Washington\, 20003\, United States
CATEGORIES:Anacostia River Discovery Series
ATTACH;FMTTYPE=image/jpeg:https://anacostiaws.tdgwebhost.com/wp-content/uploads/2026/04/Lotus-Bloom-Mobilize-Pic.jpg
END:VEVENT
BEGIN:VEVENT
DTSTART;TZID=America/New_York:20260701T080000
DTEND;TZID=America/New_York:20260701T170000
DTSTAMP:20260421T130354
CREATED:20260415T160900Z
LAST-MODIFIED:20260415T160900Z
UID:10000015-1782892800-1782925200@anacostiaws.tdgwebhost.com
SUMMARY:Test Event 02 - July
DESCRIPTION:sdf asdfasdf
URL:https://anacostiaws.tdgwebhost.com/event/test-event-02-july/2026-07-01/
LOCATION:Mt. Rainier Nature Center
CATEGORIES:Canoe Tours
END:VEVENT
BEGIN:VEVENT
DTSTART;TZID=America/New_York:20260702T180000
DTEND;TZID=America/New_York:20260702T190000
DTSTAMP:20260421T130354
CREATED:20260420T205315Z
LAST-MODIFIED:20260421T155650Z
UID:10000031-1783015200-1783018800@anacostiaws.tdgwebhost.com
SUMMARY:2026 Anacostia River Discovery Series Boat Tour
DESCRIPTION:Join the Anacostia Watershed Society for an Anacostia River Discovery Series boat tour on the Anacostia River to explore the ecological and historical changes that have occurred in the river and in the communities around the river. We will have the opportunity to witness some of the restoration of river habitats and how it has caused the rebound of the wildlife in the Anacostia River.
URL:https://anacostiaws.tdgwebhost.com/event/2026-anacostia-river-discovery-series/2026-07-02/
LOCATION:Diamond Teague Park\, 100 Potomac Avenue\, SE\, Washington\, 20003\, United States
CATEGORIES:Anacostia River Discovery Series
ATTACH;FMTTYPE=image/jpeg:https://anacostiaws.tdgwebhost.com/wp-content/uploads/2026/04/Lotus-Bloom-Mobilize-Pic.jpg
END:VEVENT
BEGIN:VEVENT
DTSTART;TZID=America/New_York:20260708T080000
DTEND;TZID=America/New_York:20260708T170000
DTSTAMP:20260421T130354
CREATED:20260415T160900Z
LAST-MODIFIED:20260415T160900Z
UID:10000016-1783497600-1783530000@anacostiaws.tdgwebhost.com
SUMMARY:Test Event 02 - July
DESCRIPTION:sdf asdfasdf
URL:https://anacostiaws.tdgwebhost.com/event/test-event-02-july/2026-07-08/
LOCATION:Mt. Rainier Nature Center
CATEGORIES:Canoe Tours
END:VEVENT
BEGIN:VEVENT
DTSTART;TZID=America/New_York:20260709T180000
DTEND;TZID=America/New_York:20260709T190000
DTSTAMP:20260421T130354
CREATED:20260420T205315Z
LAST-MODIFIED:20260421T155650Z
UID:10000032-1783620000-1783623600@anacostiaws.tdgwebhost.com
SUMMARY:2026 Anacostia River Discovery Series Boat Tour
DESCRIPTION:Join the Anacostia Watershed Society for an Anacostia River Discovery Series boat tour on the Anacostia River to explore the ecological and historical changes that have occurred in the river and in the communities around the river. We will have the opportunity to witness some of the restoration of river habitats and how it has caused the rebound of the wildlife in the Anacostia River.
URL:https://anacostiaws.tdgwebhost.com/event/2026-anacostia-river-discovery-series/2026-07-09/
LOCATION:Diamond Teague Park\, 100 Potomac Avenue\, SE\, Washington\, 20003\, United States
CATEGORIES:Anacostia River Discovery Series
ATTACH;FMTTYPE=image/jpeg:https://anacostiaws.tdgwebhost.com/wp-content/uploads/2026/04/Lotus-Bloom-Mobilize-Pic.jpg
END:VEVENT
BEGIN:VEVENT
DTSTART;TZID=America/New_York:20260715T080000
DTEND;TZID=America/New_York:20260715T170000
DTSTAMP:20260421T130354
CREATED:20260415T160900Z
LAST-MODIFIED:20260415T160900Z
UID:10000017-1784102400-1784134800@anacostiaws.tdgwebhost.com
SUMMARY:Test Event 02 - July
DESCRIPTION:sdf asdfasdf
URL:https://anacostiaws.tdgwebhost.com/event/test-event-02-july/2026-07-15/
LOCATION:Mt. Rainier Nature Center
CATEGORIES:Canoe Tours
END:VEVENT
BEGIN:VEVENT
DTSTART;TZID=America/New_York:20260716T180000
DTEND;TZID=America/New_York:20260716T190000
DTSTAMP:20260421T130354
CREATED:20260420T205315Z
LAST-MODIFIED:20260421T155650Z
UID:10000033-1784224800-1784228400@anacostiaws.tdgwebhost.com
SUMMARY:2026 Anacostia River Discovery Series Boat Tour
DESCRIPTION:Join the Anacostia Watershed Society for an Anacostia River Discovery Series boat tour on the Anacostia River to explore the ecological and historical changes that have occurred in the river and in the communities around the river. We will have the opportunity to witness some of the restoration of river habitats and how it has caused the rebound of the wildlife in the Anacostia River.
URL:https://anacostiaws.tdgwebhost.com/event/2026-anacostia-river-discovery-series/2026-07-16/
LOCATION:Diamond Teague Park\, 100 Potomac Avenue\, SE\, Washington\, 20003\, United States
CATEGORIES:Anacostia River Discovery Series
ATTACH;FMTTYPE=image/jpeg:https://anacostiaws.tdgwebhost.com/wp-content/uploads/2026/04/Lotus-Bloom-Mobilize-Pic.jpg
END:VEVENT
BEGIN:VEVENT
DTSTART;TZID=America/New_York:20260723T080000
DTEND;TZID=America/New_York:20260723T170000
DTSTAMP:20260421T130354
CREATED:20260415T160900Z
LAST-MODIFIED:20260415T160900Z
UID:10000018-1784793600-1784826000@anacostiaws.tdgwebhost.com
SUMMARY:Test Event 02 - July
DESCRIPTION:sdf asdfasdf
URL:https://anacostiaws.tdgwebhost.com/event/test-event-02-july/2026-07-23/
LOCATION:Mt. Rainier Nature Center
CATEGORIES:Canoe Tours
END:VEVENT
BEGIN:VEVENT
DTSTART;TZID=America/New_York:20260723T180000
DTEND;TZID=America/New_York:20260723T190000
DTSTAMP:20260421T130354
CREATED:20260420T205315Z
LAST-MODIFIED:20260421T155650Z
UID:10000034-1784829600-1784833200@anacostiaws.tdgwebhost.com
SUMMARY:2026 Anacostia River Discovery Series Boat Tour
DESCRIPTION:Join the Anacostia Watershed Society for an Anacostia River Discovery Series boat tour on the Anacostia River to explore the ecological and historical changes that have occurred in the river and in the communities around the river. We will have the opportunity to witness some of the restoration of river habitats and how it has caused the rebound of the wildlife in the Anacostia River.
URL:https://anacostiaws.tdgwebhost.com/event/2026-anacostia-river-discovery-series/2026-07-23/
LOCATION:Diamond Teague Park\, 100 Potomac Avenue\, SE\, Washington\, 20003\, United States
CATEGORIES:Anacostia River Discovery Series
ATTACH;FMTTYPE=image/jpeg:https://anacostiaws.tdgwebhost.com/wp-content/uploads/2026/04/Lotus-Bloom-Mobilize-Pic.jpg
END:VEVENT
BEGIN:VEVENT
DTSTART;TZID=America/New_York:20260729T080000
DTEND;TZID=America/New_York:20260729T170000
DTSTAMP:20260421T130354
CREATED:20260415T160900Z
LAST-MODIFIED:20260415T160900Z
UID:10000019-1785312000-1785344400@anacostiaws.tdgwebhost.com
SUMMARY:Test Event 02 - July
DESCRIPTION:sdf asdfasdf
URL:https://anacostiaws.tdgwebhost.com/event/test-event-02-july/2026-07-29/
LOCATION:Mt. Rainier Nature Center
CATEGORIES:Canoe Tours
END:VEVENT
BEGIN:VEVENT
DTSTART;TZID=America/New_York:20260730T180000
DTEND;TZID=America/New_York:20260730T190000
DTSTAMP:20260421T130354
CREATED:20260420T205315Z
LAST-MODIFIED:20260421T155650Z
UID:10000035-1785434400-1785438000@anacostiaws.tdgwebhost.com
SUMMARY:2026 Anacostia River Discovery Series Boat Tour
DESCRIPTION:Join the Anacostia Watershed Society for an Anacostia River Discovery Series boat tour on the Anacostia River to explore the ecological and historical changes that have occurred in the river and in the communities around the river. We will have the opportunity to witness some of the restoration of river habitats and how it has caused the rebound of the wildlife in the Anacostia River.
URL:https://anacostiaws.tdgwebhost.com/event/2026-anacostia-river-discovery-series/2026-07-30/
LOCATION:Diamond Teague Park\, 100 Potomac Avenue\, SE\, Washington\, 20003\, United States
CATEGORIES:Anacostia River Discovery Series
ATTACH;FMTTYPE=image/jpeg:https://anacostiaws.tdgwebhost.com/wp-content/uploads/2026/04/Lotus-Bloom-Mobilize-Pic.jpg
END:VEVENT
BEGIN:VEVENT
DTSTART;TZID=America/New_York:20260806T180000
DTEND;TZID=America/New_York:20260806T190000
DTSTAMP:20260421T130354
CREATED:20260420T205315Z
LAST-MODIFIED:20260421T155650Z
UID:10000036-1786039200-1786042800@anacostiaws.tdgwebhost.com
SUMMARY:2026 Anacostia River Discovery Series Boat Tour
DESCRIPTION:Join the Anacostia Watershed Society for an Anacostia River Discovery Series boat tour on the Anacostia River to explore the ecological and historical changes that have occurred in the river and in the communities around the river. We will have the opportunity to witness some of the restoration of river habitats and how it has caused the rebound of the wildlife in the Anacostia River.
URL:https://anacostiaws.tdgwebhost.com/event/2026-anacostia-river-discovery-series/2026-08-06/
LOCATION:Diamond Teague Park\, 100 Potomac Avenue\, SE\, Washington\, 20003\, United States
CATEGORIES:Anacostia River Discovery Series
ATTACH;FMTTYPE=image/jpeg:https://anacostiaws.tdgwebhost.com/wp-content/uploads/2026/04/Lotus-Bloom-Mobilize-Pic.jpg
END:VEVENT
BEGIN:VEVENT
DTSTART;TZID=America/New_York:20260813T180000
DTEND;TZID=America/New_York:20260813T190000
DTSTAMP:20260421T130354
CREATED:20260420T205315Z
LAST-MODIFIED:20260421T155650Z
UID:10000037-1786644000-1786647600@anacostiaws.tdgwebhost.com
SUMMARY:2026 Anacostia River Discovery Series Boat Tour
DESCRIPTION:Join the Anacostia Watershed Society for an Anacostia River Discovery Series boat tour on the Anacostia River to explore the ecological and historical changes that have occurred in the river and in the communities around the river. We will have the opportunity to witness some of the restoration of river habitats and how it has caused the rebound of the wildlife in the Anacostia River.
URL:https://anacostiaws.tdgwebhost.com/event/2026-anacostia-river-discovery-series/2026-08-13/
LOCATION:Diamond Teague Park\, 100 Potomac Avenue\, SE\, Washington\, 20003\, United States
CATEGORIES:Anacostia River Discovery Series
ATTACH;FMTTYPE=image/jpeg:https://anacostiaws.tdgwebhost.com/wp-content/uploads/2026/04/Lotus-Bloom-Mobilize-Pic.jpg
END:VEVENT
BEGIN:VEVENT
DTSTART;TZID=America/New_York:20260820T180000
DTEND;TZID=America/New_York:20260820T190000
DTSTAMP:20260421T130354
CREATED:20260420T205315Z
LAST-MODIFIED:20260421T155650Z
UID:10000038-1787248800-1787252400@anacostiaws.tdgwebhost.com
SUMMARY:2026 Anacostia River Discovery Series Boat Tour
DESCRIPTION:Join the Anacostia Watershed Society for an Anacostia River Discovery Series boat tour on the Anacostia River to explore the ecological and historical changes that have occurred in the river and in the communities around the river. We will have the opportunity to witness some of the restoration of river habitats and how it has caused the rebound of the wildlife in the Anacostia River.
URL:https://anacostiaws.tdgwebhost.com/event/2026-anacostia-river-discovery-series/2026-08-20/
LOCATION:Diamond Teague Park\, 100 Potomac Avenue\, SE\, Washington\, 20003\, United States
CATEGORIES:Anacostia River Discovery Series
ATTACH;FMTTYPE=image/jpeg:https://anacostiaws.tdgwebhost.com/wp-content/uploads/2026/04/Lotus-Bloom-Mobilize-Pic.jpg
END:VEVENT
BEGIN:VEVENT
DTSTART;TZID=America/New_York:20260827T180000
DTEND;TZID=America/New_York:20260827T190000
DTSTAMP:20260421T130354
CREATED:20260420T205315Z
LAST-MODIFIED:20260421T155650Z
UID:10000039-1787853600-1787857200@anacostiaws.tdgwebhost.com
SUMMARY:2026 Anacostia River Discovery Series Boat Tour
DESCRIPTION:Join the Anacostia Watershed Society for an Anacostia River Discovery Series boat tour on the Anacostia River to explore the ecological and historical changes that have occurred in the river and in the communities around the river. We will have the opportunity to witness some of the restoration of river habitats and how it has caused the rebound of the wildlife in the Anacostia River.
URL:https://anacostiaws.tdgwebhost.com/event/2026-anacostia-river-discovery-series/2026-08-27/
LOCATION:Diamond Teague Park\, 100 Potomac Avenue\, SE\, Washington\, 20003\, United States
CATEGORIES:Anacostia River Discovery Series
ATTACH;FMTTYPE=image/jpeg:https://anacostiaws.tdgwebhost.com/wp-content/uploads/2026/04/Lotus-Bloom-Mobilize-Pic.jpg
END:VEVENT
BEGIN:VEVENT
DTSTART;TZID=America/New_York:20260903T180000
DTEND;TZID=America/New_York:20260903T190000
DTSTAMP:20260421T130354
CREATED:20260420T205315Z
LAST-MODIFIED:20260421T155650Z
UID:10000040-1788458400-1788462000@anacostiaws.tdgwebhost.com
SUMMARY:2026 Anacostia River Discovery Series Boat Tour
DESCRIPTION:Join the Anacostia Watershed Society for an Anacostia River Discovery Series boat tour on the Anacostia River to explore the ecological and historical changes that have occurred in the river and in the communities around the river. We will have the opportunity to witness some of the restoration of river habitats and how it has caused the rebound of the wildlife in the Anacostia River.
URL:https://anacostiaws.tdgwebhost.com/event/2026-anacostia-river-discovery-series/2026-09-03/
LOCATION:Diamond Teague Park\, 100 Potomac Avenue\, SE\, Washington\, 20003\, United States
CATEGORIES:Anacostia River Discovery Series
ATTACH;FMTTYPE=image/jpeg:https://anacostiaws.tdgwebhost.com/wp-content/uploads/2026/04/Lotus-Bloom-Mobilize-Pic.jpg
END:VEVENT
BEGIN:VEVENT
DTSTART;TZID=America/New_York:20260910T180000
DTEND;TZID=America/New_York:20260910T190000
DTSTAMP:20260421T130354
CREATED:20260420T205315Z
LAST-MODIFIED:20260421T155650Z
UID:10000041-1789063200-1789066800@anacostiaws.tdgwebhost.com
SUMMARY:2026 Anacostia River Discovery Series Boat Tour
DESCRIPTION:Join the Anacostia Watershed Society for an Anacostia River Discovery Series boat tour on the Anacostia River to explore the ecological and historical changes that have occurred in the river and in the communities around the river. We will have the opportunity to witness some of the restoration of river habitats and how it has caused the rebound of the wildlife in the Anacostia River.
URL:https://anacostiaws.tdgwebhost.com/event/2026-anacostia-river-discovery-series/2026-09-10/
LOCATION:Diamond Teague Park\, 100 Potomac Avenue\, SE\, Washington\, 20003\, United States
CATEGORIES:Anacostia River Discovery Series
ATTACH;FMTTYPE=image/jpeg:https://anacostiaws.tdgwebhost.com/wp-content/uploads/2026/04/Lotus-Bloom-Mobilize-Pic.jpg
END:VEVENT
BEGIN:VEVENT
DTSTART;TZID=America/New_York:20260912T090000
DTEND;TZID=America/New_York:20260912T110000
DTSTAMP:20260421T130354
CREATED:20260421T161110Z
LAST-MODIFIED:20260421T161110Z
UID:10000048-1789203600-1789210800@anacostiaws.tdgwebhost.com
SUMMARY:2026 Anacostia River Discovery Series Boat Tour
DESCRIPTION:Join the Anacostia Watershed Society for an Anacostia River Discovery Series boat tour on the Anacostia River to explore the ecological and historical changes that have occurred in the river and in the communities around the river. We will have the opportunity to witness some of the restoration of river habitats and how it has caused the rebound of the wildlife in the Anacostia River. \nRegister on 8/17 \nPlease use this map to find the correct location.
URL:https://anacostiaws.tdgwebhost.com/event/2026-anacostia-river-discovery-series-boat-tour-3/
LOCATION:Kenilworth Park\, 1550 Anacostia Avenue\, NE\, Washington\, DC\, 20019\, United States
CATEGORIES:Anacostia River Discovery Series
ATTACH;FMTTYPE=image/jpeg:https://anacostiaws.tdgwebhost.com/wp-content/uploads/2026/04/Lotus-Bloom-Mobilize-Pic.jpg
END:VEVENT
BEGIN:VEVENT
DTSTART;TZID=America/New_York:20260912T120000
DTEND;TZID=America/New_York:20260912T160000
DTSTAMP:20260421T130354
CREATED:20260421T163445Z
LAST-MODIFIED:20260421T163735Z
UID:10000051-1789214400-1789228800@anacostiaws.tdgwebhost.com
SUMMARY:Anacostia River Bioblitz
DESCRIPTION:The Anacostia Watershed is home to an incredible amount of species\, and it takes a village to get out there and document them all. A bioblitz is a “Census of the Natural World” where over a short period of time\, communities go out and document the species they see. The very first bioblitz was even held right here in the Anacostia Watershed at Kenilworth Aquatic Gardens. This year we’re celebrating the 10th Anniversary of our spearheading of the Anacostia River Bioblitz.
URL:https://anacostiaws.tdgwebhost.com/event/anacostia-river-bioblitz/
LOCATION:Lake Artemesia\, 8200 55th Avenue\, College Park\, MD\, 20740\, United States
CATEGORIES:Community Science
ATTACH;FMTTYPE=image/webp:https://anacostiaws.tdgwebhost.com/wp-content/uploads/2025/11/heron-closeup-square.webp
END:VEVENT
BEGIN:VEVENT
DTSTART;TZID=America/New_York:20260917T180000
DTEND;TZID=America/New_York:20260917T190000
DTSTAMP:20260421T130354
CREATED:20260420T205315Z
LAST-MODIFIED:20260421T155650Z
UID:10000042-1789668000-1789671600@anacostiaws.tdgwebhost.com
SUMMARY:2026 Anacostia River Discovery Series Boat Tour
DESCRIPTION:Join the Anacostia Watershed Society for an Anacostia River Discovery Series boat tour on the Anacostia River to explore the ecological and historical changes that have occurred in the river and in the communities around the river. We will have the opportunity to witness some of the restoration of river habitats and how it has caused the rebound of the wildlife in the Anacostia River.
URL:https://anacostiaws.tdgwebhost.com/event/2026-anacostia-river-discovery-series/2026-09-17/
LOCATION:Diamond Teague Park\, 100 Potomac Avenue\, SE\, Washington\, 20003\, United States
CATEGORIES:Anacostia River Discovery Series
ATTACH;FMTTYPE=image/jpeg:https://anacostiaws.tdgwebhost.com/wp-content/uploads/2026/04/Lotus-Bloom-Mobilize-Pic.jpg
END:VEVENT
BEGIN:VEVENT
DTSTART;TZID=America/New_York:20260924T180000
DTEND;TZID=America/New_York:20260924T190000
DTSTAMP:20260421T130354
CREATED:20260420T205315Z
LAST-MODIFIED:20260421T155650Z
UID:10000043-1790272800-1790276400@anacostiaws.tdgwebhost.com
SUMMARY:2026 Anacostia River Discovery Series Boat Tour
DESCRIPTION:Join the Anacostia Watershed Society for an Anacostia River Discovery Series boat tour on the Anacostia River to explore the ecological and historical changes that have occurred in the river and in the communities around the river. We will have the opportunity to witness some of the restoration of river habitats and how it has caused the rebound of the wildlife in the Anacostia River.
URL:https://anacostiaws.tdgwebhost.com/event/2026-anacostia-river-discovery-series/2026-09-24/
LOCATION:Diamond Teague Park\, 100 Potomac Avenue\, SE\, Washington\, 20003\, United States
CATEGORIES:Anacostia River Discovery Series
ATTACH;FMTTYPE=image/jpeg:https://anacostiaws.tdgwebhost.com/wp-content/uploads/2026/04/Lotus-Bloom-Mobilize-Pic.jpg
END:VEVENT
BEGIN:VEVENT
DTSTART;TZID=America/New_York:20261107T100000
DTEND;TZID=America/New_York:20261107T120000
DTSTAMP:20260421T130354
CREATED:20260421T161552Z
LAST-MODIFIED:20260421T161552Z
UID:10000049-1794045600-1794052800@anacostiaws.tdgwebhost.com
SUMMARY:2026 Anacostia River Discovery Series Boat Tour
DESCRIPTION:Join the Anacostia Watershed Society for an Anacostia River Discovery Series boat tour on the Anacostia River to explore the ecological and historical changes that have occurred in the river and in the communities around the river. We will have the opportunity to witness some of the restoration of river habitats and how it has caused the rebound of the wildlife in the Anacostia River. \nRegister on 9/14
URL:https://anacostiaws.tdgwebhost.com/event/2026-anacostia-river-discovery-series-boat-tour-4/
LOCATION:Anacostia Park Boat Ramp\, 1500 Anacostia Drive\, Washington\, DC\, 20020\, United States
CATEGORIES:Anacostia River Discovery Series
ATTACH;FMTTYPE=image/jpeg:https://anacostiaws.tdgwebhost.com/wp-content/uploads/2026/04/Lotus-Bloom-Mobilize-Pic.jpg
END:VEVENT
BEGIN:VEVENT
DTSTART;TZID=America/New_York:20261107T140000
DTEND;TZID=America/New_York:20261107T160000
DTSTAMP:20260421T130354
CREATED:20260421T161644Z
LAST-MODIFIED:20260421T161644Z
UID:10000050-1794060000-1794067200@anacostiaws.tdgwebhost.com
SUMMARY:2026 Anacostia River Discovery Series Boat Tour
DESCRIPTION:Join the Anacostia Watershed Society for an Anacostia River Discovery Series boat tour on the Anacostia River to explore the ecological and historical changes that have occurred in the river and in the communities around the river. We will have the opportunity to witness some of the restoration of river habitats and how it has caused the rebound of the wildlife in the Anacostia River. \nRegister on 9/14
URL:https://anacostiaws.tdgwebhost.com/event/2026-anacostia-river-discovery-series-boat-tour-5/
LOCATION:Bladensburg Waterfront Park\, 4601 Annapolis Road\, Bladensburg\, MD\, 20710\, United States
CATEGORIES:Anacostia River Discovery Series
ATTACH;FMTTYPE=image/jpeg:https://anacostiaws.tdgwebhost.com/wp-content/uploads/2026/04/Lotus-Bloom-Mobilize-Pic.jpg
END:VEVENT
END:VCALENDAR