BEGIN:VCALENDAR
VERSION:2.0
PRODID:-//Anacostia Watershed Society - ECPv6.15.20//NONSGML v1.0//EN
CALSCALE:GREGORIAN
METHOD:PUBLISH
X-ORIGINAL-URL:https://anacostiaws.tdgwebhost.com
X-WR-CALDESC:Events for Anacostia Watershed Society
REFRESH-INTERVAL;VALUE=DURATION:PT1H
X-Robots-Tag:noindex
X-PUBLISHED-TTL:PT1H
BEGIN:VTIMEZONE
TZID:America/New_York
BEGIN:DAYLIGHT
TZOFFSETFROM:-0500
TZOFFSETTO:-0400
TZNAME:EDT
DTSTART:20250309T070000
END:DAYLIGHT
BEGIN:STANDARD
TZOFFSETFROM:-0400
TZOFFSETTO:-0500
TZNAME:EST
DTSTART:20251102T060000
END:STANDARD
BEGIN:DAYLIGHT
TZOFFSETFROM:-0500
TZOFFSETTO:-0400
TZNAME:EDT
DTSTART:20260308T070000
END:DAYLIGHT
BEGIN:STANDARD
TZOFFSETFROM:-0400
TZOFFSETTO:-0500
TZNAME:EST
DTSTART:20261101T060000
END:STANDARD
BEGIN:DAYLIGHT
TZOFFSETFROM:-0500
TZOFFSETTO:-0400
TZNAME:EDT
DTSTART:20270314T070000
END:DAYLIGHT
BEGIN:STANDARD
TZOFFSETFROM:-0400
TZOFFSETTO:-0500
TZNAME:EST
DTSTART:20271107T060000
END:STANDARD
END:VTIMEZONE
BEGIN:VEVENT
DTSTART;TZID=America/New_York:20260423T180000
DTEND;TZID=America/New_York:20260423T190000
DTSTAMP:20260421T093429
CREATED:20260420T205851Z
LAST-MODIFIED:20260420T205851Z
UID:10000021-1776967200-1776970800@anacostiaws.tdgwebhost.com
SUMMARY:2026 Anacostia River Discovery Series
DESCRIPTION:Join the Anacostia Watershed Society for an Anacostia River Discovery Series boat tour on the Anacostia River to explore the ecological and historical changes that have occurred in the river and in the communities around the river. We will have the opportunity to witness some of the restoration of river habitats and how it has caused the rebound of the wildlife in the Anacostia River. \nRegister for April 23rd Boat Tour
URL:https://anacostiaws.tdgwebhost.com/event/2026-anacostia-river-discovery-series-2/
LOCATION:Kingman Island Dock\, 575 Oklahoma Avenue\, NE\, Washington\, DC\, 20019\, United States
CATEGORIES:Anacostia River Discovery Series
ATTACH;FMTTYPE=image/png:https://anacostiaws.tdgwebhost.com/wp-content/uploads/2026/04/Lotus-Bloom-Mobilize-Pic.png
END:VEVENT
BEGIN:VEVENT
DTSTART;TZID=America/New_York:20260430T180000
DTEND;TZID=America/New_York:20260430T190000
DTSTAMP:20260421T093429
CREATED:20260420T210254Z
LAST-MODIFIED:20260420T210254Z
UID:10000022-1777572000-1777575600@anacostiaws.tdgwebhost.com
SUMMARY:2026 Anacostia River Discovery Series
DESCRIPTION:Join the Anacostia Watershed Society for an Anacostia River Discovery Series boat tour on the Anacostia River to explore the ecological and historical changes that have occurred in the river and in the communities around the river. We will have the opportunity to witness some of the restoration of river habitats and how it has caused the rebound of the wildlife in the Anacostia River. \nRegister for April 30th Boat Tour From Diamond Teague Park
URL:https://anacostiaws.tdgwebhost.com/event/2026-anacostia-river-discovery-series-3/
LOCATION:Diamond Teague Park\, 100 Potomac Avenue\, SE\, Washington\, 20003\, United States
CATEGORIES:Anacostia River Discovery Series
ATTACH;FMTTYPE=image/png:https://anacostiaws.tdgwebhost.com/wp-content/uploads/2026/04/Lotus-Bloom-Mobilize-Pic.png
END:VEVENT
BEGIN:VEVENT
DTSTART;TZID=America/New_York:20260507T180000
DTEND;TZID=America/New_York:20260507T190000
DTSTAMP:20260421T093429
CREATED:20260420T205315Z
LAST-MODIFIED:20260420T205315Z
UID:10000023-1778176800-1778180400@anacostiaws.tdgwebhost.com
SUMMARY:2026 Anacostia River Discovery Series
DESCRIPTION:Join the Anacostia Watershed Society for an Anacostia River Discovery Series boat tour on the Anacostia River to explore the ecological and historical changes that have occurred in the river and in the communities around the river. We will have the opportunity to witness some of the restoration of river habitats and how it has caused the rebound of the wildlife in the Anacostia River.
URL:https://anacostiaws.tdgwebhost.com/event/2026-anacostia-river-discovery-series/2026-05-07/
LOCATION:Kingman Island Dock\, 575 Oklahoma Avenue\, NE\, Washington\, DC\, 20019\, United States
CATEGORIES:Anacostia River Discovery Series
ATTACH;FMTTYPE=image/png:https://anacostiaws.tdgwebhost.com/wp-content/uploads/2026/04/Lotus-Bloom-Mobilize-Pic.png
END:VEVENT
BEGIN:VEVENT
DTSTART;TZID=America/New_York:20260514T180000
DTEND;TZID=America/New_York:20260514T190000
DTSTAMP:20260421T093429
CREATED:20260420T205315Z
LAST-MODIFIED:20260420T205315Z
UID:10000024-1778781600-1778785200@anacostiaws.tdgwebhost.com
SUMMARY:2026 Anacostia River Discovery Series
DESCRIPTION:Join the Anacostia Watershed Society for an Anacostia River Discovery Series boat tour on the Anacostia River to explore the ecological and historical changes that have occurred in the river and in the communities around the river. We will have the opportunity to witness some of the restoration of river habitats and how it has caused the rebound of the wildlife in the Anacostia River.
URL:https://anacostiaws.tdgwebhost.com/event/2026-anacostia-river-discovery-series/2026-05-14/
LOCATION:Kingman Island Dock\, 575 Oklahoma Avenue\, NE\, Washington\, DC\, 20019\, United States
CATEGORIES:Anacostia River Discovery Series
ATTACH;FMTTYPE=image/png:https://anacostiaws.tdgwebhost.com/wp-content/uploads/2026/04/Lotus-Bloom-Mobilize-Pic.png
END:VEVENT
BEGIN:VEVENT
DTSTART;TZID=America/New_York:20260521T180000
DTEND;TZID=America/New_York:20260521T190000
DTSTAMP:20260421T093429
CREATED:20260420T205315Z
LAST-MODIFIED:20260420T205315Z
UID:10000025-1779386400-1779390000@anacostiaws.tdgwebhost.com
SUMMARY:2026 Anacostia River Discovery Series
DESCRIPTION:Join the Anacostia Watershed Society for an Anacostia River Discovery Series boat tour on the Anacostia River to explore the ecological and historical changes that have occurred in the river and in the communities around the river. We will have the opportunity to witness some of the restoration of river habitats and how it has caused the rebound of the wildlife in the Anacostia River.
URL:https://anacostiaws.tdgwebhost.com/event/2026-anacostia-river-discovery-series/2026-05-21/
LOCATION:Kingman Island Dock\, 575 Oklahoma Avenue\, NE\, Washington\, DC\, 20019\, United States
CATEGORIES:Anacostia River Discovery Series
ATTACH;FMTTYPE=image/png:https://anacostiaws.tdgwebhost.com/wp-content/uploads/2026/04/Lotus-Bloom-Mobilize-Pic.png
END:VEVENT
BEGIN:VEVENT
DTSTART;TZID=America/New_York:20260528T180000
DTEND;TZID=America/New_York:20260528T190000
DTSTAMP:20260421T093429
CREATED:20260420T205315Z
LAST-MODIFIED:20260420T205315Z
UID:10000026-1779991200-1779994800@anacostiaws.tdgwebhost.com
SUMMARY:2026 Anacostia River Discovery Series
DESCRIPTION:Join the Anacostia Watershed Society for an Anacostia River Discovery Series boat tour on the Anacostia River to explore the ecological and historical changes that have occurred in the river and in the communities around the river. We will have the opportunity to witness some of the restoration of river habitats and how it has caused the rebound of the wildlife in the Anacostia River.
URL:https://anacostiaws.tdgwebhost.com/event/2026-anacostia-river-discovery-series/2026-05-28/
LOCATION:Kingman Island Dock\, 575 Oklahoma Avenue\, NE\, Washington\, DC\, 20019\, United States
CATEGORIES:Anacostia River Discovery Series
ATTACH;FMTTYPE=image/png:https://anacostiaws.tdgwebhost.com/wp-content/uploads/2026/04/Lotus-Bloom-Mobilize-Pic.png
END:VEVENT
BEGIN:VEVENT
DTSTART;TZID=America/New_York:20260604T180000
DTEND;TZID=America/New_York:20260604T190000
DTSTAMP:20260421T093429
CREATED:20260420T205315Z
LAST-MODIFIED:20260420T205315Z
UID:10000027-1780596000-1780599600@anacostiaws.tdgwebhost.com
SUMMARY:2026 Anacostia River Discovery Series
DESCRIPTION:Join the Anacostia Watershed Society for an Anacostia River Discovery Series boat tour on the Anacostia River to explore the ecological and historical changes that have occurred in the river and in the communities around the river. We will have the opportunity to witness some of the restoration of river habitats and how it has caused the rebound of the wildlife in the Anacostia River.
URL:https://anacostiaws.tdgwebhost.com/event/2026-anacostia-river-discovery-series/2026-06-04/
LOCATION:Kingman Island Dock\, 575 Oklahoma Avenue\, NE\, Washington\, DC\, 20019\, United States
CATEGORIES:Anacostia River Discovery Series
ATTACH;FMTTYPE=image/png:https://anacostiaws.tdgwebhost.com/wp-content/uploads/2026/04/Lotus-Bloom-Mobilize-Pic.png
END:VEVENT
BEGIN:VEVENT
DTSTART;TZID=America/New_York:20260611T180000
DTEND;TZID=America/New_York:20260611T190000
DTSTAMP:20260421T093429
CREATED:20260420T205315Z
LAST-MODIFIED:20260420T205315Z
UID:10000028-1781200800-1781204400@anacostiaws.tdgwebhost.com
SUMMARY:2026 Anacostia River Discovery Series
DESCRIPTION:Join the Anacostia Watershed Society for an Anacostia River Discovery Series boat tour on the Anacostia River to explore the ecological and historical changes that have occurred in the river and in the communities around the river. We will have the opportunity to witness some of the restoration of river habitats and how it has caused the rebound of the wildlife in the Anacostia River.
URL:https://anacostiaws.tdgwebhost.com/event/2026-anacostia-river-discovery-series/2026-06-11/
LOCATION:Kingman Island Dock\, 575 Oklahoma Avenue\, NE\, Washington\, DC\, 20019\, United States
CATEGORIES:Anacostia River Discovery Series
ATTACH;FMTTYPE=image/png:https://anacostiaws.tdgwebhost.com/wp-content/uploads/2026/04/Lotus-Bloom-Mobilize-Pic.png
END:VEVENT
BEGIN:VEVENT
DTSTART;TZID=America/New_York:20260618T180000
DTEND;TZID=America/New_York:20260618T190000
DTSTAMP:20260421T093429
CREATED:20260420T205315Z
LAST-MODIFIED:20260420T205315Z
UID:10000029-1781805600-1781809200@anacostiaws.tdgwebhost.com
SUMMARY:2026 Anacostia River Discovery Series
DESCRIPTION:Join the Anacostia Watershed Society for an Anacostia River Discovery Series boat tour on the Anacostia River to explore the ecological and historical changes that have occurred in the river and in the communities around the river. We will have the opportunity to witness some of the restoration of river habitats and how it has caused the rebound of the wildlife in the Anacostia River.
URL:https://anacostiaws.tdgwebhost.com/event/2026-anacostia-river-discovery-series/2026-06-18/
LOCATION:Kingman Island Dock\, 575 Oklahoma Avenue\, NE\, Washington\, DC\, 20019\, United States
CATEGORIES:Anacostia River Discovery Series
ATTACH;FMTTYPE=image/png:https://anacostiaws.tdgwebhost.com/wp-content/uploads/2026/04/Lotus-Bloom-Mobilize-Pic.png
END:VEVENT
BEGIN:VEVENT
DTSTART;TZID=America/New_York:20260625T180000
DTEND;TZID=America/New_York:20260625T190000
DTSTAMP:20260421T093429
CREATED:20260420T205315Z
LAST-MODIFIED:20260420T205315Z
UID:10000030-1782410400-1782414000@anacostiaws.tdgwebhost.com
SUMMARY:2026 Anacostia River Discovery Series
DESCRIPTION:Join the Anacostia Watershed Society for an Anacostia River Discovery Series boat tour on the Anacostia River to explore the ecological and historical changes that have occurred in the river and in the communities around the river. We will have the opportunity to witness some of the restoration of river habitats and how it has caused the rebound of the wildlife in the Anacostia River.
URL:https://anacostiaws.tdgwebhost.com/event/2026-anacostia-river-discovery-series/2026-06-25/
LOCATION:Kingman Island Dock\, 575 Oklahoma Avenue\, NE\, Washington\, DC\, 20019\, United States
CATEGORIES:Anacostia River Discovery Series
ATTACH;FMTTYPE=image/png:https://anacostiaws.tdgwebhost.com/wp-content/uploads/2026/04/Lotus-Bloom-Mobilize-Pic.png
END:VEVENT
BEGIN:VEVENT
DTSTART;TZID=America/New_York:20260702T180000
DTEND;TZID=America/New_York:20260702T190000
DTSTAMP:20260421T093429
CREATED:20260420T205315Z
LAST-MODIFIED:20260420T205315Z
UID:10000031-1783015200-1783018800@anacostiaws.tdgwebhost.com
SUMMARY:2026 Anacostia River Discovery Series
DESCRIPTION:Join the Anacostia Watershed Society for an Anacostia River Discovery Series boat tour on the Anacostia River to explore the ecological and historical changes that have occurred in the river and in the communities around the river. We will have the opportunity to witness some of the restoration of river habitats and how it has caused the rebound of the wildlife in the Anacostia River.
URL:https://anacostiaws.tdgwebhost.com/event/2026-anacostia-river-discovery-series/2026-07-02/
LOCATION:Kingman Island Dock\, 575 Oklahoma Avenue\, NE\, Washington\, DC\, 20019\, United States
CATEGORIES:Anacostia River Discovery Series
ATTACH;FMTTYPE=image/png:https://anacostiaws.tdgwebhost.com/wp-content/uploads/2026/04/Lotus-Bloom-Mobilize-Pic.png
END:VEVENT
BEGIN:VEVENT
DTSTART;TZID=America/New_York:20260709T180000
DTEND;TZID=America/New_York:20260709T190000
DTSTAMP:20260421T093429
CREATED:20260420T205315Z
LAST-MODIFIED:20260420T205315Z
UID:10000032-1783620000-1783623600@anacostiaws.tdgwebhost.com
SUMMARY:2026 Anacostia River Discovery Series
DESCRIPTION:Join the Anacostia Watershed Society for an Anacostia River Discovery Series boat tour on the Anacostia River to explore the ecological and historical changes that have occurred in the river and in the communities around the river. We will have the opportunity to witness some of the restoration of river habitats and how it has caused the rebound of the wildlife in the Anacostia River.
URL:https://anacostiaws.tdgwebhost.com/event/2026-anacostia-river-discovery-series/2026-07-09/
LOCATION:Kingman Island Dock\, 575 Oklahoma Avenue\, NE\, Washington\, DC\, 20019\, United States
CATEGORIES:Anacostia River Discovery Series
ATTACH;FMTTYPE=image/png:https://anacostiaws.tdgwebhost.com/wp-content/uploads/2026/04/Lotus-Bloom-Mobilize-Pic.png
END:VEVENT
BEGIN:VEVENT
DTSTART;TZID=America/New_York:20260716T180000
DTEND;TZID=America/New_York:20260716T190000
DTSTAMP:20260421T093429
CREATED:20260420T205315Z
LAST-MODIFIED:20260420T205315Z
UID:10000033-1784224800-1784228400@anacostiaws.tdgwebhost.com
SUMMARY:2026 Anacostia River Discovery Series
DESCRIPTION:Join the Anacostia Watershed Society for an Anacostia River Discovery Series boat tour on the Anacostia River to explore the ecological and historical changes that have occurred in the river and in the communities around the river. We will have the opportunity to witness some of the restoration of river habitats and how it has caused the rebound of the wildlife in the Anacostia River.
URL:https://anacostiaws.tdgwebhost.com/event/2026-anacostia-river-discovery-series/2026-07-16/
LOCATION:Kingman Island Dock\, 575 Oklahoma Avenue\, NE\, Washington\, DC\, 20019\, United States
CATEGORIES:Anacostia River Discovery Series
ATTACH;FMTTYPE=image/png:https://anacostiaws.tdgwebhost.com/wp-content/uploads/2026/04/Lotus-Bloom-Mobilize-Pic.png
END:VEVENT
BEGIN:VEVENT
DTSTART;TZID=America/New_York:20260723T180000
DTEND;TZID=America/New_York:20260723T190000
DTSTAMP:20260421T093429
CREATED:20260420T205315Z
LAST-MODIFIED:20260420T205315Z
UID:10000034-1784829600-1784833200@anacostiaws.tdgwebhost.com
SUMMARY:2026 Anacostia River Discovery Series
DESCRIPTION:Join the Anacostia Watershed Society for an Anacostia River Discovery Series boat tour on the Anacostia River to explore the ecological and historical changes that have occurred in the river and in the communities around the river. We will have the opportunity to witness some of the restoration of river habitats and how it has caused the rebound of the wildlife in the Anacostia River.
URL:https://anacostiaws.tdgwebhost.com/event/2026-anacostia-river-discovery-series/2026-07-23/
LOCATION:Kingman Island Dock\, 575 Oklahoma Avenue\, NE\, Washington\, DC\, 20019\, United States
CATEGORIES:Anacostia River Discovery Series
ATTACH;FMTTYPE=image/png:https://anacostiaws.tdgwebhost.com/wp-content/uploads/2026/04/Lotus-Bloom-Mobilize-Pic.png
END:VEVENT
BEGIN:VEVENT
DTSTART;TZID=America/New_York:20260730T180000
DTEND;TZID=America/New_York:20260730T190000
DTSTAMP:20260421T093429
CREATED:20260420T205315Z
LAST-MODIFIED:20260420T205315Z
UID:10000035-1785434400-1785438000@anacostiaws.tdgwebhost.com
SUMMARY:2026 Anacostia River Discovery Series
DESCRIPTION:Join the Anacostia Watershed Society for an Anacostia River Discovery Series boat tour on the Anacostia River to explore the ecological and historical changes that have occurred in the river and in the communities around the river. We will have the opportunity to witness some of the restoration of river habitats and how it has caused the rebound of the wildlife in the Anacostia River.
URL:https://anacostiaws.tdgwebhost.com/event/2026-anacostia-river-discovery-series/2026-07-30/
LOCATION:Kingman Island Dock\, 575 Oklahoma Avenue\, NE\, Washington\, DC\, 20019\, United States
CATEGORIES:Anacostia River Discovery Series
ATTACH;FMTTYPE=image/png:https://anacostiaws.tdgwebhost.com/wp-content/uploads/2026/04/Lotus-Bloom-Mobilize-Pic.png
END:VEVENT
BEGIN:VEVENT
DTSTART;TZID=America/New_York:20260806T180000
DTEND;TZID=America/New_York:20260806T190000
DTSTAMP:20260421T093429
CREATED:20260420T205315Z
LAST-MODIFIED:20260420T205315Z
UID:10000036-1786039200-1786042800@anacostiaws.tdgwebhost.com
SUMMARY:2026 Anacostia River Discovery Series
DESCRIPTION:Join the Anacostia Watershed Society for an Anacostia River Discovery Series boat tour on the Anacostia River to explore the ecological and historical changes that have occurred in the river and in the communities around the river. We will have the opportunity to witness some of the restoration of river habitats and how it has caused the rebound of the wildlife in the Anacostia River.
URL:https://anacostiaws.tdgwebhost.com/event/2026-anacostia-river-discovery-series/2026-08-06/
LOCATION:Kingman Island Dock\, 575 Oklahoma Avenue\, NE\, Washington\, DC\, 20019\, United States
CATEGORIES:Anacostia River Discovery Series
ATTACH;FMTTYPE=image/png:https://anacostiaws.tdgwebhost.com/wp-content/uploads/2026/04/Lotus-Bloom-Mobilize-Pic.png
END:VEVENT
BEGIN:VEVENT
DTSTART;TZID=America/New_York:20260813T180000
DTEND;TZID=America/New_York:20260813T190000
DTSTAMP:20260421T093429
CREATED:20260420T205315Z
LAST-MODIFIED:20260420T205315Z
UID:10000037-1786644000-1786647600@anacostiaws.tdgwebhost.com
SUMMARY:2026 Anacostia River Discovery Series
DESCRIPTION:Join the Anacostia Watershed Society for an Anacostia River Discovery Series boat tour on the Anacostia River to explore the ecological and historical changes that have occurred in the river and in the communities around the river. We will have the opportunity to witness some of the restoration of river habitats and how it has caused the rebound of the wildlife in the Anacostia River.
URL:https://anacostiaws.tdgwebhost.com/event/2026-anacostia-river-discovery-series/2026-08-13/
LOCATION:Kingman Island Dock\, 575 Oklahoma Avenue\, NE\, Washington\, DC\, 20019\, United States
CATEGORIES:Anacostia River Discovery Series
ATTACH;FMTTYPE=image/png:https://anacostiaws.tdgwebhost.com/wp-content/uploads/2026/04/Lotus-Bloom-Mobilize-Pic.png
END:VEVENT
BEGIN:VEVENT
DTSTART;TZID=America/New_York:20260820T180000
DTEND;TZID=America/New_York:20260820T190000
DTSTAMP:20260421T093429
CREATED:20260420T205315Z
LAST-MODIFIED:20260420T205315Z
UID:10000038-1787248800-1787252400@anacostiaws.tdgwebhost.com
SUMMARY:2026 Anacostia River Discovery Series
DESCRIPTION:Join the Anacostia Watershed Society for an Anacostia River Discovery Series boat tour on the Anacostia River to explore the ecological and historical changes that have occurred in the river and in the communities around the river. We will have the opportunity to witness some of the restoration of river habitats and how it has caused the rebound of the wildlife in the Anacostia River.
URL:https://anacostiaws.tdgwebhost.com/event/2026-anacostia-river-discovery-series/2026-08-20/
LOCATION:Kingman Island Dock\, 575 Oklahoma Avenue\, NE\, Washington\, DC\, 20019\, United States
CATEGORIES:Anacostia River Discovery Series
ATTACH;FMTTYPE=image/png:https://anacostiaws.tdgwebhost.com/wp-content/uploads/2026/04/Lotus-Bloom-Mobilize-Pic.png
END:VEVENT
BEGIN:VEVENT
DTSTART;TZID=America/New_York:20260827T180000
DTEND;TZID=America/New_York:20260827T190000
DTSTAMP:20260421T093429
CREATED:20260420T205315Z
LAST-MODIFIED:20260420T205315Z
UID:10000039-1787853600-1787857200@anacostiaws.tdgwebhost.com
SUMMARY:2026 Anacostia River Discovery Series
DESCRIPTION:Join the Anacostia Watershed Society for an Anacostia River Discovery Series boat tour on the Anacostia River to explore the ecological and historical changes that have occurred in the river and in the communities around the river. We will have the opportunity to witness some of the restoration of river habitats and how it has caused the rebound of the wildlife in the Anacostia River.
URL:https://anacostiaws.tdgwebhost.com/event/2026-anacostia-river-discovery-series/2026-08-27/
LOCATION:Kingman Island Dock\, 575 Oklahoma Avenue\, NE\, Washington\, DC\, 20019\, United States
CATEGORIES:Anacostia River Discovery Series
ATTACH;FMTTYPE=image/png:https://anacostiaws.tdgwebhost.com/wp-content/uploads/2026/04/Lotus-Bloom-Mobilize-Pic.png
END:VEVENT
BEGIN:VEVENT
DTSTART;TZID=America/New_York:20260903T180000
DTEND;TZID=America/New_York:20260903T190000
DTSTAMP:20260421T093429
CREATED:20260420T205315Z
LAST-MODIFIED:20260420T205315Z
UID:10000040-1788458400-1788462000@anacostiaws.tdgwebhost.com
SUMMARY:2026 Anacostia River Discovery Series
DESCRIPTION:Join the Anacostia Watershed Society for an Anacostia River Discovery Series boat tour on the Anacostia River to explore the ecological and historical changes that have occurred in the river and in the communities around the river. We will have the opportunity to witness some of the restoration of river habitats and how it has caused the rebound of the wildlife in the Anacostia River.
URL:https://anacostiaws.tdgwebhost.com/event/2026-anacostia-river-discovery-series/2026-09-03/
LOCATION:Kingman Island Dock\, 575 Oklahoma Avenue\, NE\, Washington\, DC\, 20019\, United States
CATEGORIES:Anacostia River Discovery Series
ATTACH;FMTTYPE=image/png:https://anacostiaws.tdgwebhost.com/wp-content/uploads/2026/04/Lotus-Bloom-Mobilize-Pic.png
END:VEVENT
BEGIN:VEVENT
DTSTART;TZID=America/New_York:20260910T180000
DTEND;TZID=America/New_York:20260910T190000
DTSTAMP:20260421T093429
CREATED:20260420T205315Z
LAST-MODIFIED:20260420T205315Z
UID:10000041-1789063200-1789066800@anacostiaws.tdgwebhost.com
SUMMARY:2026 Anacostia River Discovery Series
DESCRIPTION:Join the Anacostia Watershed Society for an Anacostia River Discovery Series boat tour on the Anacostia River to explore the ecological and historical changes that have occurred in the river and in the communities around the river. We will have the opportunity to witness some of the restoration of river habitats and how it has caused the rebound of the wildlife in the Anacostia River.
URL:https://anacostiaws.tdgwebhost.com/event/2026-anacostia-river-discovery-series/2026-09-10/
LOCATION:Kingman Island Dock\, 575 Oklahoma Avenue\, NE\, Washington\, DC\, 20019\, United States
CATEGORIES:Anacostia River Discovery Series
ATTACH;FMTTYPE=image/png:https://anacostiaws.tdgwebhost.com/wp-content/uploads/2026/04/Lotus-Bloom-Mobilize-Pic.png
END:VEVENT
BEGIN:VEVENT
DTSTART;TZID=America/New_York:20260917T180000
DTEND;TZID=America/New_York:20260917T190000
DTSTAMP:20260421T093429
CREATED:20260420T205315Z
LAST-MODIFIED:20260420T205315Z
UID:10000042-1789668000-1789671600@anacostiaws.tdgwebhost.com
SUMMARY:2026 Anacostia River Discovery Series
DESCRIPTION:Join the Anacostia Watershed Society for an Anacostia River Discovery Series boat tour on the Anacostia River to explore the ecological and historical changes that have occurred in the river and in the communities around the river. We will have the opportunity to witness some of the restoration of river habitats and how it has caused the rebound of the wildlife in the Anacostia River.
URL:https://anacostiaws.tdgwebhost.com/event/2026-anacostia-river-discovery-series/2026-09-17/
LOCATION:Kingman Island Dock\, 575 Oklahoma Avenue\, NE\, Washington\, DC\, 20019\, United States
CATEGORIES:Anacostia River Discovery Series
ATTACH;FMTTYPE=image/png:https://anacostiaws.tdgwebhost.com/wp-content/uploads/2026/04/Lotus-Bloom-Mobilize-Pic.png
END:VEVENT
BEGIN:VEVENT
DTSTART;TZID=America/New_York:20260924T180000
DTEND;TZID=America/New_York:20260924T190000
DTSTAMP:20260421T093429
CREATED:20260420T205315Z
LAST-MODIFIED:20260420T205315Z
UID:10000043-1790272800-1790276400@anacostiaws.tdgwebhost.com
SUMMARY:2026 Anacostia River Discovery Series
DESCRIPTION:Join the Anacostia Watershed Society for an Anacostia River Discovery Series boat tour on the Anacostia River to explore the ecological and historical changes that have occurred in the river and in the communities around the river. We will have the opportunity to witness some of the restoration of river habitats and how it has caused the rebound of the wildlife in the Anacostia River.
URL:https://anacostiaws.tdgwebhost.com/event/2026-anacostia-river-discovery-series/2026-09-24/
LOCATION:Kingman Island Dock\, 575 Oklahoma Avenue\, NE\, Washington\, DC\, 20019\, United States
CATEGORIES:Anacostia River Discovery Series
ATTACH;FMTTYPE=image/png:https://anacostiaws.tdgwebhost.com/wp-content/uploads/2026/04/Lotus-Bloom-Mobilize-Pic.png
END:VEVENT
END:VCALENDAR