BEGIN:VCALENDAR
VERSION:2.0
PRODID:-//Anacostia Watershed Society - ECPv6.15.20//NONSGML v1.0//EN
CALSCALE:GREGORIAN
METHOD:PUBLISH
X-WR-CALNAME:Anacostia Watershed Society
X-ORIGINAL-URL:https://anacostiaws.tdgwebhost.com
X-WR-CALDESC:Events for Anacostia Watershed Society
REFRESH-INTERVAL;VALUE=DURATION:PT1H
X-Robots-Tag:noindex
X-PUBLISHED-TTL:PT1H
BEGIN:VTIMEZONE
TZID:America/New_York
BEGIN:DAYLIGHT
TZOFFSETFROM:-0500
TZOFFSETTO:-0400
TZNAME:EDT
DTSTART:20250309T070000
END:DAYLIGHT
BEGIN:STANDARD
TZOFFSETFROM:-0400
TZOFFSETTO:-0500
TZNAME:EST
DTSTART:20251102T060000
END:STANDARD
BEGIN:DAYLIGHT
TZOFFSETFROM:-0500
TZOFFSETTO:-0400
TZNAME:EDT
DTSTART:20260308T070000
END:DAYLIGHT
BEGIN:STANDARD
TZOFFSETFROM:-0400
TZOFFSETTO:-0500
TZNAME:EST
DTSTART:20261101T060000
END:STANDARD
BEGIN:DAYLIGHT
TZOFFSETFROM:-0500
TZOFFSETTO:-0400
TZNAME:EDT
DTSTART:20270314T070000
END:DAYLIGHT
BEGIN:STANDARD
TZOFFSETFROM:-0400
TZOFFSETTO:-0500
TZNAME:EST
DTSTART:20271107T060000
END:STANDARD
END:VTIMEZONE
BEGIN:VEVENT
DTSTART;TZID=America/New_York:20260912T090000
DTEND;TZID=America/New_York:20260912T110000
DTSTAMP:20260421T202744
CREATED:20260421T161110Z
LAST-MODIFIED:20260421T185918Z
UID:10000048-1789203600-1789210800@anacostiaws.tdgwebhost.com
SUMMARY:2026 Anacostia River Discovery Series Boat Tour
DESCRIPTION:Join the Anacostia Watershed Society for an Anacostia River Discovery Series boat tour on the Anacostia River to explore the ecological and historical changes that have occurred in the river and in the communities around the river. We will have the opportunity to witness some of the restoration of river habitats and how it has caused the rebound of the wildlife in the Anacostia River. \nRegister on 8/17 \nPlease use this map to find the correct location.
URL:https://anacostiaws.tdgwebhost.com/event/2026-anacostia-river-discovery-series-boat-tour-3/
LOCATION:Kenilworth Park\, 1550 Anacostia Avenue\, NE\, Washington\, DC\, 20019\, United States
CATEGORIES:Anacostia River Discovery Series
ATTACH;FMTTYPE=image/jpeg:https://anacostiaws.tdgwebhost.com/wp-content/uploads/2026/04/Lotus-Bloom-Mobilize-Pic.jpg
END:VEVENT
BEGIN:VEVENT
DTSTART;TZID=America/New_York:20260917T180000
DTEND;TZID=America/New_York:20260917T190000
DTSTAMP:20260421T202744
CREATED:20260420T205315Z
LAST-MODIFIED:20260421T185919Z
UID:10000042-1789668000-1789671600@anacostiaws.tdgwebhost.com
SUMMARY:2026 Anacostia River Discovery Series Boat Tour
DESCRIPTION:Join the Anacostia Watershed Society for an Anacostia River Discovery Series boat tour on the Anacostia River to explore the ecological and historical changes that have occurred in the river and in the communities around the river. We will have the opportunity to witness some of the restoration of river habitats and how it has caused the rebound of the wildlife in the Anacostia River.
URL:https://anacostiaws.tdgwebhost.com/event/2026-anacostia-river-discovery-series/2026-09-17/
LOCATION:Diamond Teague Park\, 100 Potomac Avenue\, SE\, Washington\, 20003\, United States
CATEGORIES:Anacostia River Discovery Series
ATTACH;FMTTYPE=image/jpeg:https://anacostiaws.tdgwebhost.com/wp-content/uploads/2026/04/Lotus-Bloom-Mobilize-Pic.jpg
END:VEVENT
BEGIN:VEVENT
DTSTART;TZID=America/New_York:20260924T180000
DTEND;TZID=America/New_York:20260924T190000
DTSTAMP:20260421T202744
CREATED:20260420T205315Z
LAST-MODIFIED:20260421T185919Z
UID:10000043-1790272800-1790276400@anacostiaws.tdgwebhost.com
SUMMARY:2026 Anacostia River Discovery Series Boat Tour
DESCRIPTION:Join the Anacostia Watershed Society for an Anacostia River Discovery Series boat tour on the Anacostia River to explore the ecological and historical changes that have occurred in the river and in the communities around the river. We will have the opportunity to witness some of the restoration of river habitats and how it has caused the rebound of the wildlife in the Anacostia River.
URL:https://anacostiaws.tdgwebhost.com/event/2026-anacostia-river-discovery-series/2026-09-24/
LOCATION:Diamond Teague Park\, 100 Potomac Avenue\, SE\, Washington\, 20003\, United States
CATEGORIES:Anacostia River Discovery Series
ATTACH;FMTTYPE=image/jpeg:https://anacostiaws.tdgwebhost.com/wp-content/uploads/2026/04/Lotus-Bloom-Mobilize-Pic.jpg
END:VEVENT
BEGIN:VEVENT
DTSTART;TZID=America/New_York:20261107T100000
DTEND;TZID=America/New_York:20261107T120000
DTSTAMP:20260421T202744
CREATED:20260421T161552Z
LAST-MODIFIED:20260421T185918Z
UID:10000049-1794045600-1794052800@anacostiaws.tdgwebhost.com
SUMMARY:2026 Anacostia River Discovery Series Boat Tour
DESCRIPTION:Join the Anacostia Watershed Society for an Anacostia River Discovery Series boat tour on the Anacostia River to explore the ecological and historical changes that have occurred in the river and in the communities around the river. We will have the opportunity to witness some of the restoration of river habitats and how it has caused the rebound of the wildlife in the Anacostia River. \nRegister on 9/14
URL:https://anacostiaws.tdgwebhost.com/event/2026-anacostia-river-discovery-series-boat-tour-4/
LOCATION:Anacostia Park Boat Ramp\, 1500 Anacostia Drive\, Washington\, DC\, 20020\, United States
CATEGORIES:Anacostia River Discovery Series
ATTACH;FMTTYPE=image/jpeg:https://anacostiaws.tdgwebhost.com/wp-content/uploads/2026/04/Lotus-Bloom-Mobilize-Pic.jpg
END:VEVENT
BEGIN:VEVENT
DTSTART;TZID=America/New_York:20261107T140000
DTEND;TZID=America/New_York:20261107T160000
DTSTAMP:20260421T202744
CREATED:20260421T161644Z
LAST-MODIFIED:20260421T185918Z
UID:10000050-1794060000-1794067200@anacostiaws.tdgwebhost.com
SUMMARY:2026 Anacostia River Discovery Series Boat Tour
DESCRIPTION:Join the Anacostia Watershed Society for an Anacostia River Discovery Series boat tour on the Anacostia River to explore the ecological and historical changes that have occurred in the river and in the communities around the river. We will have the opportunity to witness some of the restoration of river habitats and how it has caused the rebound of the wildlife in the Anacostia River. \nRegister on 9/14
URL:https://anacostiaws.tdgwebhost.com/event/2026-anacostia-river-discovery-series-boat-tour-5/
LOCATION:Bladensburg Waterfront Park\, 4601 Annapolis Road\, Bladensburg\, MD\, 20710\, United States
CATEGORIES:Anacostia River Discovery Series
ATTACH;FMTTYPE=image/jpeg:https://anacostiaws.tdgwebhost.com/wp-content/uploads/2026/04/Lotus-Bloom-Mobilize-Pic.jpg
END:VEVENT
END:VCALENDAR